BEGIN:VCALENDAR
METHOD:REQUEST
PRODID:-//events.orgNONSGML ical.net 4.0//EN
VERSION:2.0
BEGIN:VEVENT
DTEND;VALUE=DATE:20260423
DTSTAMP:20260422T092333Z
DTSTART;VALUE=DATE:20260423
LOCATION:Racket NYC\, New York
ORGANIZER;CN=:mailto:events@events.org
SEQUENCE:0
SUMMARY:Caroline Kingsbury (18 and Over)
UID:9035cd19-ef3c-4e9c-9e6c-75382d23dc25
URL:https://events.org/e/Caroline-Kingsbury-18-and-Over/P49LIRXA
BEGIN:VALARM
ACTION:DISPLAY
SUMMARY:Reminder
TRIGGER:-P1D
END:VALARM
END:VEVENT
END:VCALENDAR
