BEGIN:VCALENDAR
METHOD:REQUEST
PRODID:-//events.orgNONSGML ical.net 4.0//EN
VERSION:2.0
BEGIN:VEVENT
DTEND;VALUE=DATE:20260503
DTSTAMP:20260421T094930Z
DTSTART;VALUE=DATE:20260503
LOCATION:Taper Auditorium\, Seattle
ORGANIZER;CN=:mailto:events@events.org
SEQUENCE:0
SUMMARY:Seattle Symphony: Xian Conducts Mozart
UID:152f3b04-eaac-4315-b2a1-2b515bc33db8
URL:https://events.org/e/Seattle-Symphony-Xian-Conducts-Mozart/EKJFTWFX
BEGIN:VALARM
ACTION:DISPLAY
SUMMARY:Reminder
TRIGGER:-P1D
END:VALARM
END:VEVENT
END:VCALENDAR
