BEGIN:VCALENDAR
METHOD:REQUEST
PRODID:-//events.orgNONSGML ical.net 4.0//EN
VERSION:2.0
BEGIN:VEVENT
DTEND;VALUE=DATE:20260622
DTSTAMP:20260424T080914Z
DTSTART;VALUE=DATE:20260622
LOCATION:Underground Arts\, Philadelphia
ORGANIZER;CN=:mailto:events@events.org
SEQUENCE:0
SUMMARY:Del Amitri (21+ Event)
UID:60c9e4ae-09d5-4a6d-9eab-8bbc6b809a1f
URL:https://events.org/e/Del-Amitri-21-Event/MYKJUOOG
BEGIN:VALARM
ACTION:DISPLAY
SUMMARY:Reminder
TRIGGER:-P1D
END:VALARM
END:VEVENT
END:VCALENDAR
