BEGIN:VCALENDAR
METHOD:REQUEST
PRODID:-//events.orgNONSGML ical.net 4.0//EN
VERSION:2.0
BEGIN:VEVENT
DTEND;VALUE=DATE:20260526
DTSTAMP:20260424T080939Z
DTSTART;VALUE=DATE:20260526
LOCATION:Underground Arts\, Philadelphia
ORGANIZER;CN=:mailto:events@events.org
SEQUENCE:0
SUMMARY:Leven Kali with Adanna Duru (21+ Event)
UID:9711050d-da80-4665-93c5-92ec34775f6b
URL:https://events.org/e/Leven-Kali-with-Adanna-Duru-21-Event/66HWUOPU
BEGIN:VALARM
ACTION:DISPLAY
SUMMARY:Reminder
TRIGGER:-P1D
END:VALARM
END:VEVENT
END:VCALENDAR
