BEGIN:VCALENDAR
METHOD:REQUEST
PRODID:-//events.orgNONSGML ical.net 4.0//EN
VERSION:2.0
BEGIN:VEVENT
DTEND;VALUE=DATE:20260602
DTSTAMP:20260421T095109Z
DTSTART;VALUE=DATE:20260602
LOCATION:Mission Ballroom\, Denver
ORGANIZER;CN=:mailto:events@events.org
SEQUENCE:0
SUMMARY:The Last Dinner Party (16 and Over)
UID:d2f01af0-5f7b-4fca-8459-25a310b80632
URL:https://events.org/e/The-Last-Dinner-Party-16-and-Over/JGJAVCX9
BEGIN:VALARM
ACTION:DISPLAY
SUMMARY:Reminder
TRIGGER:-P1D
END:VALARM
END:VEVENT
END:VCALENDAR
