BEGIN:VCALENDAR
METHOD:REQUEST
PRODID:-//events.orgNONSGML ical.net 4.0//EN
VERSION:2.0
BEGIN:VEVENT
DTEND;VALUE=DATE:20260421
DTSTAMP:20260419T091803Z
DTSTART;VALUE=DATE:20260421
LOCATION:Madison Square Garden\, New York
ORGANIZER;CN=:mailto:events@events.org
SEQUENCE:0
SUMMARY:Florence + The Machine - Everybody Scream Tour
UID:25fa3907-1008-4faa-abfe-42b54143a930
URL:https://events.org/e/Florence-The-Machine---Everybody-Scream-Tour/OUEF
 PMHC
BEGIN:VALARM
ACTION:DISPLAY
SUMMARY:Reminder
TRIGGER:-P1D
END:VALARM
END:VEVENT
END:VCALENDAR
