BEGIN:VCALENDAR
METHOD:REQUEST
PRODID:-//events.orgNONSGML ical.net 4.0//EN
VERSION:2.0
BEGIN:VEVENT
DTEND;VALUE=DATE:20260704
DTSTAMP:20260421T131924Z
DTSTART;VALUE=DATE:20260704
LOCATION:Snapdragon Stadium\, San Diego
ORGANIZER;CN=:mailto:events@events.org
SEQUENCE:0
SUMMARY:San Diego Wave FC vs NJ/NY Gotham FC
UID:9eef19f9-c36c-4cab-a4ed-2840f8cb051d
URL:https://events.org/e/San-Diego-Wave-FC-vs-NJNY-Gotham-FC/EB8GLOQQ
BEGIN:VALARM
ACTION:DISPLAY
SUMMARY:Reminder
TRIGGER:-P1D
END:VALARM
END:VEVENT
END:VCALENDAR
