BEGIN:VCALENDAR
METHOD:REQUEST
PRODID:-//events.orgNONSGML ical.net 4.0//EN
VERSION:2.0
BEGIN:VEVENT
DTEND;VALUE=DATE:20260711
DTSTAMP:20260421T132609Z
DTSTART;VALUE=DATE:20260711
LOCATION:Balboa Theatre\, San Diego
ORGANIZER;CN=:mailto:events@events.org
SEQUENCE:0
SUMMARY:San Diego Opera Presents: Fellow Travelers
UID:8e24083e-d9ec-4a8b-bb9e-d9c6f959380a
URL:https://events.org/e/San-Diego-Opera-Presents-Fellow-Travelers/GEQM74OH
BEGIN:VALARM
ACTION:DISPLAY
SUMMARY:Reminder
TRIGGER:-P1D
END:VALARM
END:VEVENT
END:VCALENDAR
