BEGIN:VCALENDAR
METHOD:REQUEST
PRODID:-//events.orgNONSGML ical.net 4.0//EN
VERSION:2.0
BEGIN:VEVENT
DTEND;VALUE=DATE:20260626
DTSTAMP:20260421T103936Z
DTSTART;VALUE=DATE:20260626
LOCATION:The Rady Shell at Jacobs Park\, San Diego
ORGANIZER;CN=:mailto:events@events.org
SEQUENCE:0
SUMMARY:San Diego Symphony
UID:c3657062-91ac-4c30-8e51-6063d91201ad
URL:https://events.org/e/San-Diego-Symphony/NQDMHUBI
BEGIN:VALARM
ACTION:DISPLAY
SUMMARY:Reminder
TRIGGER:-P1D
END:VALARM
END:VEVENT
END:VCALENDAR
