BEGIN:VCALENDAR
METHOD:REQUEST
PRODID:-//events.orgNONSGML ical.net 4.0//EN
VERSION:2.0
BEGIN:VEVENT
DTEND;VALUE=DATE:20260628
DTSTAMP:20260421T082140Z
DTSTART;VALUE=DATE:20260628
LOCATION:Alliance Theatre - Coca-Cola Stage\, Atlanta
ORGANIZER;CN=:mailto:events@events.org
SEQUENCE:0
SUMMARY:Basura Musical
UID:3d1058a2-d0e0-4630-92ef-812cfd87d0e3
URL:https://events.org/e/Basura-Musical/E2PMH55A
BEGIN:VALARM
ACTION:DISPLAY
SUMMARY:Reminder
TRIGGER:-P1D
END:VALARM
END:VEVENT
END:VCALENDAR
