BEGIN:VCALENDAR
METHOD:REQUEST
PRODID:-//events.orgNONSGML ical.net 4.0//EN
VERSION:2.0
BEGIN:VEVENT
DTEND;VALUE=DATE:20260506
DTSTAMP:20260421T094758Z
DTSTART;VALUE=DATE:20260506
LOCATION:The Wiltern\, Los Angeles
ORGANIZER;CN=:mailto:events@events.org
SEQUENCE:0
SUMMARY:Netflix Is A Joke Presents: Bill Simmons with the Creators of Tires
UID:74d75837-071f-4e13-be3f-21400290f984
URL:https://events.org/e/Netflix-Is-A-Joke-Presents-Bill-Simmons-with/RGW5
 547N
BEGIN:VALARM
ACTION:DISPLAY
SUMMARY:Reminder
TRIGGER:-P1D
END:VALARM
END:VEVENT
END:VCALENDAR
