BEGIN:VCALENDAR
METHOD:REQUEST
PRODID:-//events.orgNONSGML ical.net 4.0//EN
VERSION:2.0
BEGIN:VEVENT
DTEND;VALUE=DATE:20260429
DTSTAMP:20260424T080505Z
DTSTART;VALUE=DATE:20260429
LOCATION:Belasco Theatre\, New York
ORGANIZER;CN=:mailto:events@events.org
SEQUENCE:0
SUMMARY:Maybe Happy Ending
UID:09144567-4889-4a63-85e1-831a94a1f9ce
URL:https://events.org/e/Maybe-Happy-Ending/UWFXR2YM
BEGIN:VALARM
ACTION:DISPLAY
SUMMARY:Reminder
TRIGGER:-P1D
END:VALARM
END:VEVENT
END:VCALENDAR
