BEGIN:VCALENDAR
METHOD:REQUEST
PRODID:-//events.orgNONSGML ical.net 4.0//EN
VERSION:2.0
BEGIN:VEVENT
DTEND;VALUE=DATE:20260402
DTSTAMP:20260421T082000Z
DTSTART;VALUE=DATE:20260402
LOCATION:Valley Bar\, Phoenix
ORGANIZER;CN=:mailto:events@events.org
SEQUENCE:0
SUMMARY:FALLING APART COMEDY WITH CHRIS BANKS
UID:6cc63658-a066-4b17-8ad2-d8ff6dff2911
URL:https://events.org/e/FALLING-APART-COMEDY-WITH-CHRIS-BANKS/7UOK63CY
BEGIN:VALARM
ACTION:DISPLAY
SUMMARY:Reminder
TRIGGER:-P1D
END:VALARM
END:VEVENT
END:VCALENDAR
