BEGIN:VCALENDAR
METHOD:REQUEST
PRODID:-//events.orgNONSGML ical.net 4.0//EN
VERSION:2.0
BEGIN:VEVENT
DTEND;VALUE=DATE:20260620
DTSTAMP:20260421T095144Z
DTSTART;VALUE=DATE:20260620
LOCATION:Music Box\, San Diego
ORGANIZER;CN=:mailto:events@events.org
SEQUENCE:0
SUMMARY:Rock 'N' Roll Camp for Girls
UID:5b2525d0-c848-4b67-86c5-fd261784cd94
URL:https://events.org/e/Rock-N-Roll-Camp-for-Girls/9D838Y2X
BEGIN:VALARM
ACTION:DISPLAY
SUMMARY:Reminder
TRIGGER:-P1D
END:VALARM
END:VEVENT
END:VCALENDAR
