BEGIN:VCALENDAR
METHOD:REQUEST
PRODID:-//events.orgNONSGML ical.net 4.0//EN
VERSION:2.0
BEGIN:VEVENT
DTEND;VALUE=DATE:20260519
DTSTAMP:20260422T091122Z
DTSTART;VALUE=DATE:20260519
LOCATION:Three Top Lounge\, Chicago
ORGANIZER;CN=:mailto:events@events.org
SEQUENCE:0
SUMMARY:Road To Sueños - Fresa Party
UID:b77eeedb-b20e-4c25-a3d6-ea31fea68d00
URL:https://events.org/e/Road-To-Suenos---Fresa-Party/HF54RRTR
BEGIN:VALARM
ACTION:DISPLAY
SUMMARY:Reminder
TRIGGER:-P1D
END:VALARM
END:VEVENT
END:VCALENDAR
