BEGIN:VCALENDAR
METHOD:REQUEST
PRODID:-//events.orgNONSGML ical.net 4.0//EN
VERSION:2.0
BEGIN:VEVENT
DTEND;VALUE=DATE:20260728
DTSTAMP:20260422T083811Z
DTSTART;VALUE=DATE:20260728
LOCATION:Humphreys Concerts By the Bay\, San Diego
ORGANIZER;CN=:mailto:events@events.org
SEQUENCE:0
SUMMARY:Dark Star Orchestra
UID:838373d5-5bef-46aa-89fd-cb2d16289522
URL:https://events.org/e/Dark-Star-Orchestra/OPWVA2KK
BEGIN:VALARM
ACTION:DISPLAY
SUMMARY:Reminder
TRIGGER:-P1D
END:VALARM
END:VEVENT
END:VCALENDAR
