BEGIN:VCALENDAR
METHOD:REQUEST
PRODID:-//events.orgNONSGML ical.net 4.0//EN
VERSION:2.0
BEGIN:VEVENT
DTEND;VALUE=DATE:20260707
DTSTAMP:20260421T104012Z
DTSTART;VALUE=DATE:20260707
LOCATION:Fenway Park\, Boston
ORGANIZER;CN=:mailto:events@events.org
SEQUENCE:0
SUMMARY:Noah Kahan: The Great Divide Tour - Make a Difference Tickets
UID:89eb1957-313f-43df-a573-1320c6b4fbd2
URL:https://events.org/e/Noah-Kahan-The-Great-Divide-Tour---Make-a-Dif/JQR
 4YLPA
BEGIN:VALARM
ACTION:DISPLAY
SUMMARY:Reminder
TRIGGER:-P1D
END:VALARM
END:VEVENT
END:VCALENDAR
