BEGIN:VCALENDAR
METHOD:REQUEST
PRODID:-//events.orgNONSGML ical.net 4.0//EN
VERSION:2.0
BEGIN:VEVENT
DTEND;VALUE=DATE:20260523
DTSTAMP:20260424T080614Z
DTSTART;VALUE=DATE:20260523
LOCATION:Walt Disney Concert Hall\, Los Angeles
ORGANIZER;CN=:mailto:events@events.org
SEQUENCE:0
SUMMARY:Los Angeles Philharmonic w/ Gustavo Dudamel
UID:5f515151-e6a2-4b08-a1bc-c6a272046567
URL:https://events.org/e/Los-Angeles-Philharmonic-w-Gustavo-Dudamel/CID8N9
 3L
BEGIN:VALARM
ACTION:DISPLAY
SUMMARY:Reminder
TRIGGER:-P1D
END:VALARM
END:VEVENT
END:VCALENDAR
