BEGIN:VCALENDAR
METHOD:REQUEST
PRODID:-//events.orgNONSGML ical.net 4.0//EN
VERSION:2.0
BEGIN:VEVENT
DTEND;VALUE=DATE:20260802
DTSTAMP:20260422T090452Z
DTSTART;VALUE=DATE:20260802
LOCATION:House of Blues Houston\, Houston
ORGANIZER;CN=:mailto:events@events.org
SEQUENCE:0
SUMMARY:Chance Peña
UID:32e6b541-25a5-44b2-8bb5-ec0b6df5a80d
URL:https://events.org/e/Chance-Pena/5SEOP6W5
BEGIN:VALARM
ACTION:DISPLAY
SUMMARY:Reminder
TRIGGER:-P1D
END:VALARM
END:VEVENT
END:VCALENDAR
