BEGIN:VCALENDAR
METHOD:REQUEST
PRODID:-//events.orgNONSGML ical.net 4.0//EN
VERSION:2.0
BEGIN:VEVENT
DTEND;VALUE=DATE:20260711
DTSTAMP:20260421T104031Z
DTSTART;VALUE=DATE:20260711
LOCATION:The Observatory North Park\, San Diego
ORGANIZER;CN=:mailto:events@events.org
SEQUENCE:0
SUMMARY:Noise Complaints Presents: The Late Night R&B Experience Tour (21+)
UID:97b1bc47-a0f2-44c9-b9ae-63f336cb23a9
URL:https://events.org/e/Noise-Complaints-Presents-The-Late-Night-RB-E/5QC
 PTCT8
BEGIN:VALARM
ACTION:DISPLAY
SUMMARY:Reminder
TRIGGER:-P1D
END:VALARM
END:VEVENT
END:VCALENDAR
