BEGIN:VCALENDAR
METHOD:REQUEST
PRODID:-//events.orgNONSGML ical.net 4.0//EN
VERSION:2.0
BEGIN:VEVENT
DTEND;VALUE=DATE:20260618
DTSTAMP:20260424T092204Z
DTSTART;VALUE=DATE:20260618
LOCATION:Thunderbird Lounge\, Phoenix
ORGANIZER;CN=:mailto:events@events.org
SEQUENCE:0
SUMMARY:Loterã­A Thursdays
UID:b2979003-b14e-437d-ab84-0aba57ee86c0
URL:https://events.org/e/LoteraA-Thursdays/2VMG6VUA
BEGIN:VALARM
ACTION:DISPLAY
SUMMARY:Reminder
TRIGGER:-P1D
END:VALARM
END:VEVENT
END:VCALENDAR
