BEGIN:VCALENDAR
METHOD:REQUEST
PRODID:-//events.orgNONSGML ical.net 4.0//EN
VERSION:2.0
BEGIN:VEVENT
DTEND;VALUE=DATE:20260522
DTSTAMP:20260424T080506Z
DTSTART;VALUE=DATE:20260522
LOCATION:Underground Arts\, Philadelphia
ORGANIZER;CN=:mailto:events@events.org
SEQUENCE:0
SUMMARY:All Your Friends: The Indie Dance Party (21+ Event)
UID:d3b52978-e988-47b8-9d36-af4166e5583b
URL:https://events.org/e/All-Your-Friends-The-Indie-Dance-Party-21-Event/Q
 HSKSIWN
BEGIN:VALARM
ACTION:DISPLAY
SUMMARY:Reminder
TRIGGER:-P1D
END:VALARM
END:VEVENT
END:VCALENDAR
