BEGIN:VCALENDAR
METHOD:REQUEST
PRODID:-//events.orgNONSGML ical.net 4.0//EN
VERSION:2.0
BEGIN:VEVENT
DTEND;VALUE=DATE:20260519
DTSTAMP:20260422T091051Z
DTSTART;VALUE=DATE:20260519
LOCATION:Teragram Ballroom\, Los Angeles
ORGANIZER;CN=:mailto:events@events.org
SEQUENCE:0
SUMMARY:caroline
UID:a050e027-734a-410c-b418-ee3f971c2219
URL:https://events.org/e/caroline/F7C6LQCN
BEGIN:VALARM
ACTION:DISPLAY
SUMMARY:Reminder
TRIGGER:-P1D
END:VALARM
END:VEVENT
END:VCALENDAR
