BEGIN:VCALENDAR
METHOD:REQUEST
PRODID:-//events.orgNONSGML ical.net 4.0//EN
VERSION:2.0
BEGIN:VEVENT
DTEND;VALUE=DATE:20260602
DTSTAMP:20260425T101930Z
DTSTART;VALUE=DATE:20260602
LOCATION:Bluebird Theatre\, Denver
ORGANIZER;CN=:mailto:events@events.org
SEQUENCE:0
SUMMARY:GRAHAM w/ Luke Rob
UID:89518329-cb15-42c0-a467-7fba3801ae29
URL:https://events.org/e/GRAHAM-w-Luke-Rob/U4Y795RH
BEGIN:VALARM
ACTION:DISPLAY
SUMMARY:Reminder
TRIGGER:-P1D
END:VALARM
END:VEVENT
END:VCALENDAR
