BEGIN:VCALENDAR
METHOD:REQUEST
PRODID:-//events.orgNONSGML ical.net 4.0//EN
VERSION:2.0
BEGIN:VEVENT
DTEND;VALUE=DATE:20260806
DTSTAMP:20260422T091539Z
DTSTART;VALUE=DATE:20260806
LOCATION:NRG Stadium\, Houston
ORGANIZER;CN=:mailto:events@events.org
SEQUENCE:0
SUMMARY:Ringling Bros. and Barnum & Bailey presents The Greatest Show On E
 arth
UID:06393066-b2c8-45c2-a718-1ed2115981d3
URL:https://events.org/e/Ringling-Bros-and-Barnum-Bailey-presents-The/LSO7
 S4QA
BEGIN:VALARM
ACTION:DISPLAY
SUMMARY:Reminder
TRIGGER:-P1D
END:VALARM
END:VEVENT
END:VCALENDAR
