BEGIN:VCALENDAR
METHOD:REQUEST
PRODID:-//events.orgNONSGML ical.net 4.0//EN
VERSION:2.0
BEGIN:VEVENT
DTEND;VALUE=DATE:20260626
DTSTAMP:20260423T133335Z
DTSTART;VALUE=DATE:20260626
LOCATION:Theatre of Living Arts\, Philadelphia
ORGANIZER;CN=:mailto:events@events.org
SEQUENCE:0
SUMMARY:Rumours ATL: A Fleetwood Mac Tribute
UID:e20b612b-dc1c-4ecf-8742-f1afb8c88b71
URL:https://events.org/e/Rumours-ATL-A-Fleetwood-Mac-Tribute/KTCAIQSI
BEGIN:VALARM
ACTION:DISPLAY
SUMMARY:Reminder
TRIGGER:-P1D
END:VALARM
END:VEVENT
END:VCALENDAR
