BEGIN:VCALENDAR
METHOD:REQUEST
PRODID:-//events.orgNONSGML ical.net 4.0//EN
VERSION:2.0
BEGIN:VEVENT
DTEND;VALUE=DATE:20260915
DTSTAMP:20260422T091705Z
DTSTART;VALUE=DATE:20260915
LOCATION:Theatre of Living Arts\, Philadelphia
ORGANIZER;CN=:mailto:events@events.org
SEQUENCE:0
SUMMARY:PRESIDENT: North American Campaign 2026
UID:30f202c0-5a6c-4c49-ae0d-27fba9c090b9
URL:https://events.org/e/PRESIDENT-North-American-Campaign-2026/HXEBCMYM
BEGIN:VALARM
ACTION:DISPLAY
SUMMARY:Reminder
TRIGGER:-P1D
END:VALARM
END:VEVENT
END:VCALENDAR
