BEGIN:VCALENDAR
METHOD:REQUEST
PRODID:-//events.orgNONSGML ical.net 4.0//EN
VERSION:2.0
BEGIN:VEVENT
DTEND;VALUE=DATE:20260703
DTSTAMP:20260421T131000Z
DTSTART;VALUE=DATE:20260703
LOCATION:Music Box\, San Diego
ORGANIZER;CN=:mailto:events@events.org
SEQUENCE:0
SUMMARY:Mark Farina
UID:1b271383-8ec8-446c-8235-75a54aba81ac
URL:https://events.org/e/Mark-Farina/E9HWPHEY
BEGIN:VALARM
ACTION:DISPLAY
SUMMARY:Reminder
TRIGGER:-P1D
END:VALARM
END:VEVENT
END:VCALENDAR
