BEGIN:VCALENDAR
METHOD:REQUEST
PRODID:-//events.orgNONSGML ical.net 4.0//EN
VERSION:2.0
BEGIN:VEVENT
DTEND;VALUE=DATE:20260902
DTSTAMP:20260424T092741Z
DTSTART;VALUE=DATE:20260902
LOCATION:Underground Arts\, Philadelphia
ORGANIZER;CN=:mailto:events@events.org
SEQUENCE:0
SUMMARY:Monolord with Khemmis (21+ Event)
UID:698d6e20-a14b-4b3c-a393-6b5857eaae27
URL:https://events.org/e/Monolord-with-Khemmis-21-Event/UBITNWEM
BEGIN:VALARM
ACTION:DISPLAY
SUMMARY:Reminder
TRIGGER:-P1D
END:VALARM
END:VEVENT
END:VCALENDAR
