BEGIN:VCALENDAR
METHOD:REQUEST
PRODID:-//events.orgNONSGML ical.net 4.0//EN
VERSION:2.0
BEGIN:VEVENT
DTEND;VALUE=DATE:20260503
DTSTAMP:20260421T081923Z
DTSTART;VALUE=DATE:20260503
LOCATION:Crypto.com Arena\, Los Angeles
ORGANIZER;CN=:mailto:events@events.org
SEQUENCE:0
SUMMARY:West Conf Qtrs: Los Angeles Lakers v HOU Rd 1 Hm Gm 4 (If Necessar
 y)
UID:eee63afb-e701-46eb-a6b9-7dfea3d46143
URL:https://events.org/e/West-Conf-Qtrs-Los-Angeles-Lakers-v-HOU-Rd-1/N7PB
 PUNQ
BEGIN:VALARM
ACTION:DISPLAY
SUMMARY:Reminder
TRIGGER:-P1D
END:VALARM
END:VEVENT
END:VCALENDAR
