BEGIN:VCALENDAR
METHOD:REQUEST
PRODID:-//events.orgNONSGML ical.net 4.0//EN
VERSION:2.0
BEGIN:VEVENT
DTEND;VALUE=DATE:20260504
DTSTAMP:20260421T082535Z
DTSTART;VALUE=DATE:20260504
LOCATION:The Hotel Cafe (Main Stage)\, Los Angeles
ORGANIZER;CN=:mailto:events@events.org
SEQUENCE:0
SUMMARY:Justine Marino w/ Netflix Is A Joke: The Festival
UID:ce395aa0-2bee-4983-a773-2e4c9e51f94f
URL:https://events.org/e/Justine-Marino-w-Netflix-Is-A-Joke-The-Festival/9
 53CLSTI
BEGIN:VALARM
ACTION:DISPLAY
SUMMARY:Reminder
TRIGGER:-P1D
END:VALARM
END:VEVENT
END:VCALENDAR
