BEGIN:VCALENDAR
METHOD:REQUEST
PRODID:-//events.orgNONSGML ical.net 4.0//EN
VERSION:2.0
BEGIN:VEVENT
DTEND;VALUE=DATE:20260926
DTSTAMP:20260424T092402Z
DTSTART;VALUE=DATE:20260926
LOCATION:The Wilbur\, Boston
ORGANIZER;CN=:mailto:events@events.org
SEQUENCE:0
SUMMARY:The Milk Carton Kids Fall Tour
UID:0ec29956-dfb1-46da-bc1d-b42a4c9821b1
URL:https://events.org/e/The-Milk-Carton-Kids-Fall-Tour/LJISCAL4
BEGIN:VALARM
ACTION:DISPLAY
SUMMARY:Reminder
TRIGGER:-P1D
END:VALARM
END:VEVENT
END:VCALENDAR
