BEGIN:VCALENDAR
METHOD:REQUEST
PRODID:-//events.orgNONSGML ical.net 4.0//EN
VERSION:2.0
BEGIN:VEVENT
DTEND;VALUE=DATE:20260523
DTSTAMP:20260422T090715Z
DTSTART;VALUE=DATE:20260523
LOCATION:Soldier Field\, Chicago
ORGANIZER;CN=:mailto:events@events.org
SEQUENCE:0
SUMMARY:Chicago Fire FC vs. Toronto FC (Post-Match Concert ft Lupe Fiasco)
UID:c34be5fa-8e2c-4979-b3c3-517147a8f1cd
URL:https://events.org/e/Chicago-Fire-FC-vs-Toronto-FC-Post-Match-Conc/KCL
 XFVBN
BEGIN:VALARM
ACTION:DISPLAY
SUMMARY:Reminder
TRIGGER:-P1D
END:VALARM
END:VEVENT
END:VCALENDAR
