BEGIN:VCALENDAR
METHOD:REQUEST
PRODID:-//events.orgNONSGML ical.net 4.0//EN
VERSION:2.0
BEGIN:VEVENT
DTEND;VALUE=DATE:20260705
DTSTAMP:20260424T091919Z
DTSTART;VALUE=DATE:20260705
LOCATION:Ford Field\, Detroit
ORGANIZER;CN=:mailto:events@events.org
SEQUENCE:0
SUMMARY:The R&B Tour - Starring Usher Raymond & Chris Brown
UID:7232f042-4d8b-4f7f-9cec-bdd63bfa3b19
URL:https://events.org/e/The-RB-Tour---Starring-Usher-Raymond-Chris-Brown/
 9MCRK3AG
BEGIN:VALARM
ACTION:DISPLAY
SUMMARY:Reminder
TRIGGER:-P1D
END:VALARM
END:VEVENT
END:VCALENDAR
