BEGIN:VCALENDAR
METHOD:REQUEST
PRODID:-//events.orgNONSGML ical.net 4.0//EN
VERSION:2.0
BEGIN:VEVENT
DTEND;VALUE=DATE:20260423
DTSTAMP:20260421T135701Z
DTSTART;VALUE=DATE:20260423
LOCATION:The Moroccan Lounge\, Los Angeles
ORGANIZER;CN=:mailto:events@events.org
SEQUENCE:0
SUMMARY:Daniel Romano's Outfit with Uni Boys
UID:a668ba8d-2105-4d5c-a7dc-21aca0c548b6
URL:https://events.org/e/Daniel-Romanos-Outfit-with-Uni-Boys/FB9KJG6X
BEGIN:VALARM
ACTION:DISPLAY
SUMMARY:Reminder
TRIGGER:-P1D
END:VALARM
END:VEVENT
END:VCALENDAR
