BEGIN:VCALENDAR
METHOD:REQUEST
PRODID:-//events.orgNONSGML ical.net 4.0//EN
VERSION:2.0
BEGIN:VEVENT
DTEND;VALUE=DATE:20260619
DTSTAMP:20260421T163912Z
DTSTART;VALUE=DATE:20260619
LOCATION:JUNKYARD\, Denver
ORGANIZER;CN=:mailto:events@events.org
SEQUENCE:0
SUMMARY:Gorgon City: Enter The Realm
UID:507248fd-2129-433e-a178-f4a9b2354d86
URL:https://events.org/e/Gorgon-City-Enter-The-Realm/PX7UDJD9
BEGIN:VALARM
ACTION:DISPLAY
SUMMARY:Reminder
TRIGGER:-P1D
END:VALARM
END:VEVENT
END:VCALENDAR
