BEGIN:VCALENDAR
METHOD:REQUEST
PRODID:-//events.orgNONSGML ical.net 4.0//EN
VERSION:2.0
BEGIN:VEVENT
DTEND;VALUE=DATE:20260509
DTSTAMP:20260423T133632Z
DTSTART;VALUE=DATE:20260509
LOCATION:Moore Theatre\, Seattle
ORGANIZER;CN=:mailto:events@events.org
SEQUENCE:0
SUMMARY:Seattle Rock Orchestra Performs The Beatles: Number 1's
UID:de26153a-e629-4c72-a1ce-d1d63d98a9d6
URL:https://events.org/e/Seattle-Rock-Orchestra-Performs-The-Beatles-N/TAN
 WCPQF
BEGIN:VALARM
ACTION:DISPLAY
SUMMARY:Reminder
TRIGGER:-P1D
END:VALARM
END:VEVENT
END:VCALENDAR
