BEGIN:VCALENDAR
METHOD:REQUEST
PRODID:-//events.orgNONSGML ical.net 4.0//EN
VERSION:2.0
BEGIN:VEVENT
DTEND;VALUE=DATE:20260703
DTSTAMP:20260421T144608Z
DTSTART;VALUE=DATE:20260703
LOCATION:Coors Field\, Denver
ORGANIZER;CN=:mailto:events@events.org
SEQUENCE:0
SUMMARY:Colorado Rockies vs. San Francisco Giants
UID:38b9fe1c-df7e-4041-b666-6e50324a0493
URL:https://events.org/e/Colorado-Rockies-vs-San-Francisco-Giants/QTPHPOQX
BEGIN:VALARM
ACTION:DISPLAY
SUMMARY:Reminder
TRIGGER:-P1D
END:VALARM
END:VEVENT
END:VCALENDAR
