BEGIN:VCALENDAR
METHOD:REQUEST
PRODID:-//events.orgNONSGML ical.net 4.0//EN
VERSION:2.0
BEGIN:VEVENT
DTEND;VALUE=DATE:20260520
DTSTAMP:20260421T095142Z
DTSTART;VALUE=DATE:20260520
LOCATION:Orpheum Theatre presented by Citizens\, Boston
ORGANIZER;CN=:mailto:events@events.org
SEQUENCE:0
SUMMARY:BELLE & SEBASTIAN: IF YOU'RE FEELING SINISTER + CLASSIC SONGS
UID:ca941f95-9240-4e6e-9d04-76eeaef1fc83
URL:https://events.org/e/BELLE-SEBASTIAN-IF-YOURE-FEELING-SINISTER-CLA/8L6
 UK329
BEGIN:VALARM
ACTION:DISPLAY
SUMMARY:Reminder
TRIGGER:-P1D
END:VALARM
END:VEVENT
END:VCALENDAR
