BEGIN:VCALENDAR
METHOD:REQUEST
PRODID:-//events.orgNONSGML ical.net 4.0//EN
VERSION:2.0
BEGIN:VEVENT
DTEND;VALUE=DATE:20260531
DTSTAMP:20260421T103639Z
DTSTART;VALUE=DATE:20260531
LOCATION:Universoul Circus - Atlanta - Old Turner Field Grey Lot\, Atlanta
ORGANIZER;CN=:mailto:events@events.org
SEQUENCE:0
SUMMARY:UniverSoul Circus
UID:3c0d0045-ac5b-4ff1-990a-0ead29733cc4
URL:https://events.org/e/UniverSoul-Circus/QJDCJC74
BEGIN:VALARM
ACTION:DISPLAY
SUMMARY:Reminder
TRIGGER:-P1D
END:VALARM
END:VEVENT
END:VCALENDAR
