BEGIN:VCALENDAR
METHOD:REQUEST
PRODID:-//events.orgNONSGML ical.net 4.0//EN
VERSION:2.0
BEGIN:VEVENT
DTEND;VALUE=DATE:20260419
DTSTAMP:20260421T081923Z
DTSTART;VALUE=DATE:20260419
LOCATION:Lunt-Fontanne Theatre\, New York
ORGANIZER;CN=:mailto:events@events.org
SEQUENCE:0
SUMMARY:Death Becomes Her
UID:5da06c46-c555-4cf1-9185-f730cba03f66
URL:https://events.org/e/Death-Becomes-Her/4JIQ3527
BEGIN:VALARM
ACTION:DISPLAY
SUMMARY:Reminder
TRIGGER:-P1D
END:VALARM
END:VEVENT
END:VCALENDAR
