BEGIN:VCALENDAR
METHOD:REQUEST
PRODID:-//events.orgNONSGML ical.net 4.0//EN
VERSION:2.0
BEGIN:VEVENT
DTEND;VALUE=DATE:20260425
DTSTAMP:20260422T091017Z
DTSTART;VALUE=DATE:20260425
LOCATION:Audible's Minetta Lane Theatre\, New York
ORGANIZER;CN=:mailto:events@events.org
SEQUENCE:0
SUMMARY:Sexual Misconduct of the Middle Classes
UID:c8e875d5-5a5d-4230-b4a7-0093f27ef659
URL:https://events.org/e/Sexual-Misconduct-of-the-Middle-Classes/ICJNE3UI
BEGIN:VALARM
ACTION:DISPLAY
SUMMARY:Reminder
TRIGGER:-P1D
END:VALARM
END:VEVENT
END:VCALENDAR
