BEGIN:VCALENDAR
METHOD:REQUEST
PRODID:-//events.orgNONSGML ical.net 4.0//EN
VERSION:2.0
BEGIN:VEVENT
DTEND;VALUE=DATE:20260422
DTSTAMP:20260422T090229Z
DTSTART;VALUE=DATE:20260422
LOCATION:Lucille Lortel Theatre\, New York
ORGANIZER;CN=:mailto:events@events.org
SEQUENCE:0
SUMMARY:KENREX: A True Crime Thriller
UID:4432f076-074c-4cf0-abf7-0ae6a1cf65b8
URL:https://events.org/e/KENREX-A-True-Crime-Thriller/PSYTIKXD
BEGIN:VALARM
ACTION:DISPLAY
SUMMARY:Reminder
TRIGGER:-P1D
END:VALARM
END:VEVENT
END:VCALENDAR
