BEGIN:VCALENDAR
METHOD:REQUEST
PRODID:-//events.orgNONSGML ical.net 4.0//EN
VERSION:2.0
BEGIN:VEVENT
DTEND;VALUE=DATE:20260611
DTSTAMP:20260421T094925Z
DTSTART;VALUE=DATE:20260611
LOCATION:Bimbo's 365 Club\, San Francisco
ORGANIZER;CN=:mailto:events@events.org
SEQUENCE:0
SUMMARY:Naomi Scott
UID:8693e290-f7fa-432b-939c-2917c39ec2b5
URL:https://events.org/e/Naomi-Scott/73IN5E3G
BEGIN:VALARM
ACTION:DISPLAY
SUMMARY:Reminder
TRIGGER:-P1D
END:VALARM
END:VEVENT
END:VCALENDAR
