BEGIN:VCALENDAR
METHOD:REQUEST
PRODID:-//events.orgNONSGML ical.net 4.0//EN
VERSION:2.0
BEGIN:VEVENT
DTEND;VALUE=DATE:20260829
DTSTAMP:20260423T133517Z
DTSTART;VALUE=DATE:20260829
LOCATION:Nu Stadium\, Miami
ORGANIZER;CN=:mailto:events@events.org
SEQUENCE:0
SUMMARY:Inter Miami CF vs CF Montréal
UID:7122d013-acba-49a9-9a1e-f37994194367
URL:https://events.org/e/Inter-Miami-CF-vs-CF-Montreal/VJY8JPDL
BEGIN:VALARM
ACTION:DISPLAY
SUMMARY:Reminder
TRIGGER:-P1D
END:VALARM
END:VEVENT
END:VCALENDAR
