BEGIN:VCALENDAR
METHOD:REQUEST
PRODID:-//events.orgNONSGML ical.net 4.0//EN
VERSION:2.0
BEGIN:VEVENT
DTEND;VALUE=DATE:20260724
DTSTAMP:20260421T082400Z
DTSTART;VALUE=DATE:20260724
LOCATION:Soma\, San Diego
ORGANIZER;CN=:mailto:events@events.org
SEQUENCE:0
SUMMARY:Hermanos Espinoza - LINAJE Tour
UID:df1a3a52-60cb-4ff8-a3c3-c6e266000602
URL:https://events.org/e/Hermanos-Espinoza---LINAJE-Tour/RQSMB83R
BEGIN:VALARM
ACTION:DISPLAY
SUMMARY:Reminder
TRIGGER:-P1D
END:VALARM
END:VEVENT
END:VCALENDAR
