BEGIN:VCALENDAR
METHOD:REQUEST
PRODID:-//events.orgNONSGML ical.net 4.0//EN
VERSION:2.0
BEGIN:VEVENT
DTEND;VALUE=DATE:20260625
DTSTAMP:20260424T092055Z
DTSTART;VALUE=DATE:20260625
LOCATION:Thunderbird Lounge\, Phoenix
ORGANIZER;CN=:mailto:events@events.org
SEQUENCE:0
SUMMARY:Loterã­A Thursdays
UID:3b203df8-42fd-4c73-aa74-d4c6e962cc6e
URL:https://events.org/e/LoteraA-Thursdays/O4QR2SQE
BEGIN:VALARM
ACTION:DISPLAY
SUMMARY:Reminder
TRIGGER:-P1D
END:VALARM
END:VEVENT
END:VCALENDAR
