BEGIN:VCALENDAR
METHOD:REQUEST
PRODID:-//events.orgNONSGML ical.net 4.0//EN
VERSION:2.0
BEGIN:VEVENT
DTEND;VALUE=DATE:20260319
DTSTAMP:20260421T082140Z
DTSTART;VALUE=DATE:20260319
LOCATION:Vinyl\, Atlanta
ORGANIZER;CN=:mailto:events@events.org
SEQUENCE:0
SUMMARY:BDifferent: Atlanta Come On!!
UID:5768cf91-d8ba-4542-9db8-55f72bee1bca
URL:https://events.org/e/BDifferent-Atlanta-Come-On/3YJ2J8LF
BEGIN:VALARM
ACTION:DISPLAY
SUMMARY:Reminder
TRIGGER:-P1D
END:VALARM
END:VEVENT
END:VCALENDAR
