BEGIN:VCALENDAR
METHOD:REQUEST
PRODID:-//events.orgNONSGML ical.net 4.0//EN
VERSION:2.0
BEGIN:VEVENT
DTEND;VALUE=DATE:20260418
DTSTAMP:20260421T082717Z
DTSTART;VALUE=DATE:20260418
LOCATION:Racket NYC\, New York
ORGANIZER;CN=:mailto:events@events.org
SEQUENCE:0
SUMMARY:ROAR Story Slam - All Ages (under 16 with adult)
UID:38efbbd9-5ad9-490f-b3cb-955851b6e88d
URL:https://events.org/e/ROAR-Story-Slam---All-Ages-under-16-with-adult/48
 JOER27
BEGIN:VALARM
ACTION:DISPLAY
SUMMARY:Reminder
TRIGGER:-P1D
END:VALARM
END:VEVENT
END:VCALENDAR
