BEGIN:VCALENDAR
METHOD:REQUEST
PRODID:-//events.orgNONSGML ical.net 4.0//EN
VERSION:2.0
BEGIN:VEVENT
DTEND;VALUE=DATE:20260724
DTSTAMP:20260422T090943Z
DTSTART;VALUE=DATE:20260724
LOCATION:The Bronze Peacock at House of Blues Houston\, Houston
ORGANIZER;CN=:mailto:events@events.org
SEQUENCE:0
SUMMARY:Chrisette Michele Grounding Room Only Tour
UID:d5ab3a7b-4754-4a83-9bc3-5d99c2c608dd
URL:https://events.org/e/Chrisette-Michele-Grounding-Room-Only-Tour/SGLWRJ
 S4
BEGIN:VALARM
ACTION:DISPLAY
SUMMARY:Reminder
TRIGGER:-P1D
END:VALARM
END:VEVENT
END:VCALENDAR
